BEGIN:VCALENDAR
VERSION:2.0
PRODID:-//Squarespace Inc/Squarespace 6//v6//EN
BEGIN:VEVENT
UID:59f90bba27ef2d23681e1725@squarespace.com
DTSTAMP:20171031T234929Z
DTSTART:20170413T140000Z
DTEND:20170413T150000Z
SUMMARY:Centre for Innovation and Entrepreneurship Programme
END:VEVENT
END:VCALENDAR
