BEGIN:VCALENDAR
VERSION:2.0
PRODID:-//Squarespace Inc/Squarespace 6//v6//EN
BEGIN:VEVENT
UID:59f69bb753450a1e3bcd406b@squarespace.com
DTSTAMP:20171031T234314Z
DTSTART:20170603T133000Z
DTEND:20170604T203000Z
SUMMARY:Elicit Dream Day
END:VEVENT
END:VCALENDAR
