BEGIN:VCALENDAR
VERSION:2.0
PRODID:-//Squarespace Inc/Squarespace 6//v6//EN
BEGIN:VEVENT
UID:59f69b670846653ab7ae2aef@squarespace.com
DTSTAMP:20171031T234214Z
DTSTART:20170726T000000Z
DTEND:20170726T010000Z
SUMMARY:UNFILTERED LIVE: Team\, Culture & Diversity
END:VEVENT
END:VCALENDAR
