BEGIN:VCALENDAR
VERSION:2.0
PRODID:-//Squarespace Inc/Squarespace 6//v6//EN
BEGIN:VEVENT
UID:59f69af26c3194053452c599@squarespace.com
DTSTAMP:20171030T033024Z
DTSTART:20170825T233000Z
DTEND:20170826T003000Z
SUMMARY:AUT: Noho Marae address to Journalism Students 
END:VEVENT
END:VCALENDAR
