BEGIN:VCALENDAR
VERSION:2.0
PRODID:-//Squarespace Inc/Squarespace 6//v6//EN
BEGIN:VEVENT
UID:59f90ab2e2c48325471c828b@squarespace.com
DTSTAMP:20171031T234514Z
DTSTART:20170510T130000Z
DTEND:20170511T210000Z
SUMMARY:Women Doing the Business - Philanthropy
END:VEVENT
END:VCALENDAR
