BEGIN:VCALENDAR
VERSION:2.0
PRODID:-//Squarespace Inc/Squarespace 6//v6//EN
BEGIN:VEVENT
UID:59f90b35c830259dbcf0b68a@squarespace.com
DTSTAMP:20171031T234746Z
DTSTART:20170506T000000Z
DTEND:20170506T010000Z
SUMMARY:Faculty of Education & Social Work - Graduation Ceremony Address
END:VEVENT
END:VCALENDAR
